BEGIN:VCALENDAR
VERSION:2.0
PRODID:-//Bocskai Rádió - ECPv6.15.20//NONSGML v1.0//EN
CALSCALE:GREGORIAN
METHOD:PUBLISH
X-WR-CALNAME:Bocskai Rádió
X-ORIGINAL-URL:https://www.bocskairadio.org/en/
X-WR-CALDESC:Events for Bocskai Rádió
REFRESH-INTERVAL;VALUE=DURATION:PT1H
X-Robots-Tag:noindex
X-PUBLISHED-TTL:PT1H
BEGIN:VTIMEZONE
TZID:UTC
BEGIN:STANDARD
TZOFFSETFROM:+0000
TZOFFSETTO:+0000
TZNAME:UTC
DTSTART:20240101T000000
END:STANDARD
END:VTIMEZONE
BEGIN:VEVENT
DTSTART;VALUE=DATE:20250731
DTEND;VALUE=DATE:20250803
DTSTAMP:20260419T094309
CREATED:20250705T013131Z
LAST-MODIFIED:20250705T013131Z
UID:1104579-1753920000-1754179199@www.bocskairadio.org
SUMMARY:Church Garage Sale - Garázsvásár
DESCRIPTION:
URL:https://www.bocskairadio.org/en/event/church-garage-sale-garazsvasar/
LOCATION:First Hungarian Reformed Church\, 14530 Alexander Rd\, Walton Hills\, OH\, 44146\, United States
ATTACH;FMTTYPE=image/jpeg:https://www.bocskairadio.org/wp-content/uploads/2025/07/1104579_image_Church-Garage-Sale-2025-1.jpg
ORGANIZER;CN="First Hungarian Reformed Church":MAILTO:fhrcwh@gmail_com
END:VEVENT
END:VCALENDAR